BEGIN:VCALENDAR
VERSION:2.0
PRODID:-//Vicki Galvan - ECPv6.15.20//NONSGML v1.0//EN
CALSCALE:GREGORIAN
METHOD:PUBLISH
X-WR-CALNAME:Vicki Galvan
X-ORIGINAL-URL:https://vickigalvan.com
X-WR-CALDESC:Events for Vicki Galvan
REFRESH-INTERVAL;VALUE=DURATION:PT1H
X-Robots-Tag:noindex
X-PUBLISHED-TTL:PT1H
BEGIN:VTIMEZONE
TZID:America/Los_Angeles
BEGIN:DAYLIGHT
TZOFFSETFROM:-0800
TZOFFSETTO:-0700
TZNAME:PDT
DTSTART:20250309T100000
END:DAYLIGHT
BEGIN:STANDARD
TZOFFSETFROM:-0700
TZOFFSETTO:-0800
TZNAME:PST
DTSTART:20251102T090000
END:STANDARD
BEGIN:DAYLIGHT
TZOFFSETFROM:-0800
TZOFFSETTO:-0700
TZNAME:PDT
DTSTART:20260308T100000
END:DAYLIGHT
BEGIN:STANDARD
TZOFFSETFROM:-0700
TZOFFSETTO:-0800
TZNAME:PST
DTSTART:20261101T090000
END:STANDARD
BEGIN:DAYLIGHT
TZOFFSETFROM:-0800
TZOFFSETTO:-0700
TZNAME:PDT
DTSTART:20270314T100000
END:DAYLIGHT
BEGIN:STANDARD
TZOFFSETFROM:-0700
TZOFFSETTO:-0800
TZNAME:PST
DTSTART:20271107T090000
END:STANDARD
END:VTIMEZONE
BEGIN:VEVENT
DTSTART;TZID=America/Los_Angeles:20260617T180000
DTEND;TZID=America/Los_Angeles:20260617T200000
DTSTAMP:20260421T010728
CREATED:20260225T045417Z
LAST-MODIFIED:20260225T045918Z
UID:4882-1781719200-1781726400@vickigalvan.com
SUMMARY:Investor Club - June 17\, 2026
DESCRIPTION:You’re Invited to Join the Investor Club \nFor Property Owners Ready to Grow Their Wealth \nAre you a homeowner or business who already owns property? Are you ready to take the next step toward in \nbuilding generational wealth\, expanding your real estate portfolio\, creating passive income? \nThen this is for you. \nIntroducing: \n The Investor Club \nA focused community of driven individuals committed to growing smarter\, together. We’ll provide the tools\, resources\, and guidance to help you: Expand your property portfolio Build passive income streams Strategize for long-term wealth Network with like-minded investors **Commitment is Required** \nThis is not a passive group. To join\, you must be willing to commit to your own growth\, stay accountable\, and take your financial future seriously. \nReady to level up? Let us know you’re interested\, and we’ll share next steps.
URL:https://vickigalvan.com/event/investor-club-june-17-2026
CATEGORIES:Investor Club
END:VEVENT
BEGIN:VEVENT
DTSTART;TZID=America/Los_Angeles:20260826T180000
DTEND;TZID=America/Los_Angeles:20260826T200000
DTSTAMP:20260421T010728
CREATED:20260225T045857Z
LAST-MODIFIED:20260225T050841Z
UID:4889-1787767200-1787774400@vickigalvan.com
SUMMARY:Investor Club - August 26\, 2026
DESCRIPTION:You’re Invited to Join the Investor Club \nFor Property Owners Ready to Grow Their Wealth \nAre you a homeowner or business who already owns property? Are you ready to take the next step toward in \nbuilding generational wealth\, expanding your real estate portfolio\, creating passive income? \nThen this is for you. \nIntroducing: \n The Investor Club \nA focused community of driven individuals committed to growing smarter\, together. We’ll provide the tools\, resources\, and guidance to help you: Expand your property portfolio Build passive income streams Strategize for long-term wealth Network with like-minded investors **Commitment is Required** \nThis is not a passive group. To join\, you must be willing to commit to your own growth\, stay accountable\, and take your financial future seriously. \nReady to level up? Let us know you’re interested\, and we’ll share next steps.
URL:https://vickigalvan.com/event/4889
CATEGORIES:Investor Club
END:VEVENT
BEGIN:VEVENT
DTSTART;TZID=America/Los_Angeles:20261111T180000
DTEND;TZID=America/Los_Angeles:20261111T180000
DTSTAMP:20260421T010728
CREATED:20260225T050239Z
LAST-MODIFIED:20260225T050804Z
UID:4894-1794420000-1794420000@vickigalvan.com
SUMMARY:Investor Club - November 11\, 2026
DESCRIPTION:You’re Invited to Join the Investor Club \nFor Property Owners Ready to Grow Their Wealth \nAre you a homeowner or business who already owns property? Are you ready to take the next step toward in \nbuilding generational wealth\, expanding your real estate portfolio\, creating passive income? \nThen this is for you. \nIntroducing: \n The Investor Club \nA focused community of driven individuals committed to growing smarter\, together. We’ll provide the tools\, resources\, and guidance to help you: Expand your property portfolio Build passive income streams Strategize for long-term wealth Network with like-minded investors **Commitment is Required** \nThis is not a passive group. To join\, you must be willing to commit to your own growth\, stay accountable\, and take your financial future seriously. \nReady to level up? Let us know you’re interested\, and we’ll share next steps.
URL:https://vickigalvan.com/event/investor-club-november-11-2026
CATEGORIES:Investor Club
END:VEVENT
END:VCALENDAR