BEGIN:VCALENDAR
VERSION:2.0
PRODID:-//Vicki Galvan - ECPv6.15.20//NONSGML v1.0//EN
CALSCALE:GREGORIAN
METHOD:PUBLISH
X-WR-CALNAME:Vicki Galvan
X-ORIGINAL-URL:https://vickigalvan.com
X-WR-CALDESC:Events for Vicki Galvan
REFRESH-INTERVAL;VALUE=DURATION:PT1H
X-Robots-Tag:noindex
X-PUBLISHED-TTL:PT1H
BEGIN:VTIMEZONE
TZID:America/Los_Angeles
BEGIN:DAYLIGHT
TZOFFSETFROM:-0800
TZOFFSETTO:-0700
TZNAME:PDT
DTSTART:20240310T100000
END:DAYLIGHT
BEGIN:STANDARD
TZOFFSETFROM:-0700
TZOFFSETTO:-0800
TZNAME:PST
DTSTART:20241103T090000
END:STANDARD
BEGIN:DAYLIGHT
TZOFFSETFROM:-0800
TZOFFSETTO:-0700
TZNAME:PDT
DTSTART:20250309T100000
END:DAYLIGHT
BEGIN:STANDARD
TZOFFSETFROM:-0700
TZOFFSETTO:-0800
TZNAME:PST
DTSTART:20251102T090000
END:STANDARD
BEGIN:DAYLIGHT
TZOFFSETFROM:-0800
TZOFFSETTO:-0700
TZNAME:PDT
DTSTART:20260308T100000
END:DAYLIGHT
BEGIN:STANDARD
TZOFFSETFROM:-0700
TZOFFSETTO:-0800
TZNAME:PST
DTSTART:20261101T090000
END:STANDARD
END:VTIMEZONE
BEGIN:VEVENT
DTSTART;TZID=America/Los_Angeles:20250622T180000
DTEND;TZID=America/Los_Angeles:20250622T193000
DTSTAMP:20260421T141857
CREATED:20250409T183212Z
LAST-MODIFIED:20250409T183212Z
UID:3159-1750615200-1750620600@vickigalvan.com
SUMMARY:Santa Monica - Sunset Picnic
DESCRIPTION:Location: Beach
URL:https://vickigalvan.com/event/santa-monica-sunset-picnic
CATEGORIES:Sunset Picnic
END:VEVENT
END:VCALENDAR